BEGIN:VCALENDAR
VERSION:2.0
PRODID:-//www.marudot.com//iCal Event Maker
X-WR-CALNAME:Форум-театр «Мой друг – наркоман»
CALSCALE:GREGORIAN
BEGIN:VTIMEZONE
TZID:Europe/Moscow
TZURL:http://tzurl.org/zoneinfo-outlook/Europe/Moscow
X-LIC-LOCATION:Europe/Moscow
BEGIN:STANDARD
TZOFFSETFROM:+0300
TZOFFSETTO:+0300
TZNAME:MSK
DTSTART:20160215T130000
END:STANDARD
END:VTIMEZONE
BEGIN:VEVENT
DTSTAMP:20260425T184251ZUID:2026-04-25T18:42:51+03:00_1432@tolerancecenter.ru
DTSTART;TZID="Europe/Moscow":20160215T160000
DTEND;TZID="Europe/Moscow":20160215T180000
SUMMARY:Форум-театр «Мой друг – наркоман»
URL:http://tolerancecenter.ru/ical/?begin=20160215T130000&end=20160215T150000&title=%D0%A4%D0%BE%D1%80%D1%83%D0%BC-%D1%82%D0%B5%D0%B0%D1%82%D1%80+%C2%AB%D0%9C%D0%BE%D0%B9+%D0%B4%D1%80%D1%83%D0%B3+%E2%80%93+%D0%BD%D0%B0%D1%80%D0%BA%D0%BE%D0%BC%D0%B0%D0%BD%C2%BB
DESCRIPTION:<br />
<b>Warning</b>:  Undefined array key "desc" in <b>/home/tc/public_html/ical/index.php</b> on line <b>42</b><br />

END:VEVENT
END:VCALENDAR
