BEGIN:VCALENDAR
VERSION:2.0
PRODID:-//www.marudot.com//iCal Event Maker
X-WR-CALNAME:Неделя толерантности-2015
CALSCALE:GREGORIAN
BEGIN:VTIMEZONE
TZID:Europe/Moscow
TZURL:http://tzurl.org/zoneinfo-outlook/Europe/Moscow
X-LIC-LOCATION:Europe/Moscow
BEGIN:STANDARD
TZOFFSETFROM:+0300
TZOFFSETTO:+0300
TZNAME:MSK
DTSTART:20151116T090000
END:STANDARD
END:VTIMEZONE
BEGIN:VEVENT
DTSTAMP:20260425T105745ZUID:2026-04-25T10:57:45+03:00_6363@tolerancecenter.ru
DTSTART;TZID="Europe/Moscow":20151116T120000
DTEND;TZID="Europe/Moscow":20151116T120000
SUMMARY:Неделя толерантности-2015
URL:http://tolerancecenter.ru/ical/?begin=20151116T090000&end=20151116T090000&title=%D0%9D%D0%B5%D0%B4%D0%B5%D0%BB%D1%8F+%D1%82%D0%BE%D0%BB%D0%B5%D1%80%D0%B0%D0%BD%D1%82%D0%BD%D0%BE%D1%81%D1%82%D0%B8-2015
DESCRIPTION:<br />
<b>Warning</b>:  Undefined array key "desc" in <b>/home/tc/public_html/ical/index.php</b> on line <b>42</b><br />

END:VEVENT
END:VCALENDAR
